BEGIN:VCALENDAR
VERSION:2.0
PRODID:-//SVP Russikon //NONSGML Events //EN
CALSCALE:GREGORIAN
X-WR-CALNAME:SVP Russikon
BEGIN:VEVENT
CREATED:20251212T065925Z
UID:9731
DTEND:20260616T000000
DTSTART:20260616T000000
DTSTAMP:20260422T185733Z
LOCATION:Wallisellen
DESCRIPTION:
SUMMARY:Sitzung Bezirkspräsidenten &#038\; Kantonalvorstand
ORGANIZER:SVP Kanton Zürich
URL;VALUE=URI:https://www.svp-russikon.ch/termine/sitzung-bezirkspraesidenten-kantonalvorstand-2/
TRANSP:OPAQUE
END:VEVENT
END:VCALENDAR
