BEGIN:VCALENDAR
VERSION:2.0
PRODID:-//SVP Russikon //NONSGML Events //EN
CALSCALE:GREGORIAN
X-WR-CALNAME:SVP Russikon
BEGIN:VEVENT
CREATED:20260421T131645Z
UID:10525
DTEND:20260512T200000
DTSTART:20260512T193000
DTSTAMP:20260422T122349Z
LOCATION:
DESCRIPTION:72. Generalversammlung der SVP Russikon, Rest. Krone im kleinen Saal, 
SUMMARY:Bezirk Pfäffikon / Russikon
ORGANIZER:
URL;VALUE=URI:https://www.svp-russikon.ch/termine/bezirk-pfaeffikon-russikon/
TRANSP:OPAQUE
END:VEVENT
END:VCALENDAR
